BEGIN:VCALENDAR
VERSION:2.0
PRODID:-//MKAC//AddToCalendar//EN
CALSCALE:GREGORIAN
BEGIN:VTIMEZONE
TZID:America/New_York
X-LIC-LOCATION:America/New_York
BEGIN:DAYLIGHT
TZOFFSETFROM:-0500
TZOFFSETTO:-0400
TZNAME:EDT
DTSTART:19700308T020000
RRULE:FREQ=YEARLY;BYMONTH=3;BYDAY=2SU
END:DAYLIGHT
BEGIN:STANDARD
TZOFFSETFROM:-0400
TZOFFSETTO:-0500
TZNAME:EST
DTSTART:19701101T020000
RRULE:FREQ=YEARLY;BYMONTH=11;BYDAY=1SU
END:STANDARD
END:VTIMEZONE
BEGIN:VEVENT
UID:3353@www.mountkiscoartscouncil.com
DTSTAMP:20260422T091901Z
DTSTART;TZID=America/New_York:20251028T183000
DTEND;TZID=America/New_York:20251028T200000
SUMMARY:Writing Workshop
DESCRIPTION:Writing Workshop Cross-training with Genre\, Part 2! Join Tiern
 ey Oberhammer for Part 2 of this workshop exploring how mystery\, fantasy\
 , sci-fi\, Westerns\, and romance can sharpen every writer’s craft. By e
 xamining what makes each genre work\, participants will build stronger wri
 ting practices. No need to have attended Part 1. A brief recap will be pro
 vided. The workshop will be held at the Lutheran Church of the Resurrectio
 n\, 15 S. Bedford Road\, Mount Kisco.
URL:https://www.mountkiscoartscouncil.com/writing-workshop-oct-28-2025/
STATUS:CONFIRMED
TRANSP:OPAQUE
END:VEVENT
END:VCALENDAR
