BEGIN:VCALENDAR
VERSION:2.0
PRODID:-//MKAC//AddToCalendar//EN
CALSCALE:GREGORIAN
BEGIN:VTIMEZONE
TZID:America/New_York
X-LIC-LOCATION:America/New_York
BEGIN:DAYLIGHT
TZOFFSETFROM:-0500
TZOFFSETTO:-0400
TZNAME:EDT
DTSTART:19700308T020000
RRULE:FREQ=YEARLY;BYMONTH=3;BYDAY=2SU
END:DAYLIGHT
BEGIN:STANDARD
TZOFFSETFROM:-0400
TZOFFSETTO:-0500
TZNAME:EST
DTSTART:19701101T020000
RRULE:FREQ=YEARLY;BYMONTH=11;BYDAY=1SU
END:STANDARD
END:VTIMEZONE
BEGIN:VEVENT
UID:3709@www.mountkiscoartscouncil.com
DTSTAMP:20260422T090839Z
DTSTART;TZID=America/New_York:20251213T120000
DTEND;TZID=America/New_York:20251213T160000
SUMMARY:MKCC Holiday’Fest 2025
DESCRIPTION:MKCC Holiday’Fest 2025 MKAC will have a table at this fun-fil
 led holiday event sponsored by the Mount Kisco Chamber of Commerce. We wil
 l have books by local authors available for purchase\, and author signing\
 , as well as MKAC merchandise and information about our upcoming events. W
 e will be located on the walkway between South Moger Ave. and Mimi’s Cof
 fee House in downtown Mount Kisco. Visit the Mount Kisco Chamber of Commer
 ce website for more information.
URL:https://www.mountkiscoartscouncil.com/open-stages-nov-15/
STATUS:CONFIRMED
TRANSP:OPAQUE
END:VEVENT
END:VCALENDAR
