BEGIN:VCALENDAR
VERSION:2.0
PRODID:-//MKAC//AddToCalendar//EN
CALSCALE:GREGORIAN
BEGIN:VTIMEZONE
TZID:America/New_York
X-LIC-LOCATION:America/New_York
BEGIN:DAYLIGHT
TZOFFSETFROM:-0500
TZOFFSETTO:-0400
TZNAME:EDT
DTSTART:19700308T020000
RRULE:FREQ=YEARLY;BYMONTH=3;BYDAY=2SU
END:DAYLIGHT
BEGIN:STANDARD
TZOFFSETFROM:-0400
TZOFFSETTO:-0500
TZNAME:EST
DTSTART:19701101T020000
RRULE:FREQ=YEARLY;BYMONTH=11;BYDAY=1SU
END:STANDARD
END:VTIMEZONE
BEGIN:VEVENT
UID:4931@www.mountkiscoartscouncil.com
DTSTAMP:20260421T135005Z
DTSTART;VALUE=DATE:20260511
DTEND;VALUE=DATE:20260512
SUMMARY:Mount Kisco Art Walk Week
DESCRIPTION:Mount Kisco Art Walk Week A community-wide exhibition celebrati
 ng artists of all ages The Mount Kisco Art Walk is a weeklong community ce
 lebration of creativity\, presented by MKESA in partnership with the Mount
  Kisco Arts Council and the Mount Kisco Chamber of Commerce. The event inc
 ludes a public art exhibition with artwork at local businesses from May 11
 -15 and concludes with a Family Art Night at St. Mark’s Church Parish Ha
 ll on May 16. Exhibition: May 11–15Family Art Night: May 16\, 3:00–5:3
 0 PMSt. Mark’s Church – Parish Hall To participate\, submit your artwo
 rk by filling out this form\, or learn […]
URL:https://www.mountkiscoartscouncil.com/mount-kisco-art-walk-week/
STATUS:CONFIRMED
TRANSP:OPAQUE
END:VEVENT
END:VCALENDAR
